BEGIN:VCALENDAR
VERSION:2.0
PRODID:Events Booking
BEGIN:VEVENT
UID:69e5fd1f8599a
SUMMARY:(ONLINE) Wisdom from the Desert – 2 Essential Elements of Prayer:
  Attentiveness / Wakefulness (Agrupnia) and Letting Go (Apatheia)
DESCRIPTION:
DTSTART:20221211T140000Z
DTEND:20221211T170000Z
DTSTAMP:20220627T102621Z
ORGANIZER;CN=Donna Worthington:MAILTO:alex@alexwalker.co.uk
END:VEVENT
END:VCALENDAR