BEGIN:VCALENDAR
VERSION:2.0
PRODID:Events Booking
BEGIN:VEVENT
UID:69e5fdcc2ace6
SUMMARY:THE WATER INTO WINE  (John 2:1-11) | The symbol of empty water jars
  and new wine: emptying our selves\, to offer a space for life lived in al
 l its fullness. 10-1pm
DESCRIPTION:THE WATER INTO WINE  (John 2:1-11) | The symbol of empty water
  jars and new wine: emptying our selves\, to offer a space for life lived 
 in all its fullness.
DTSTART:20221024T090000Z
DTEND:20221024T120000Z
DTSTAMP:20220524T104149Z
ORGANIZER;CN=Donna Worthington:MAILTO:alex@alexwalker.co.uk
END:VEVENT
END:VCALENDAR