BEGIN:VCALENDAR
VERSION:2.0
PRODID:Events Booking
BEGIN:VEVENT
UID:69e5fe2d2e044
SUMMARY:RESTING IN GOD\, HELD BY GOD | Supporting others...10-1pm
DESCRIPTION:RESTING IN GOD\, HELD BY GOD | Supporting others...
DTSTART:20221114T100000Z
DTEND:20221114T130000Z
DTSTAMP:20220524T172234Z
ORGANIZER;CN=Donna Worthington:MAILTO:alex@alexwalker.co.uk
END:VEVENT
END:VCALENDAR