BEGIN:VCALENDAR
VERSION:2.0
PRODID:Events Booking
BEGIN:VEVENT
UID:69e5fc8991b64
SUMMARY:RESTING IN GOD\, HELD BY GOD | Supporting others...2-5pm
DESCRIPTION:RESTING IN GOD\, HELD BY GOD | Supporting others...
DTSTART:20221112T140000Z
DTEND:20221112T170000Z
DTSTAMP:20220524T172139Z
ORGANIZER;CN=Donna Worthington:MAILTO:alex@alexwalker.co.uk
END:VEVENT
END:VCALENDAR