BEGIN:VCALENDAR
VERSION:2.0
PRODID:Events Booking
BEGIN:VEVENT
UID:69e5fcb161093
SUMMARY:(ONLINE) REFLECTING THEOLOGICALLY ON WHO WE ARE\, THE MODERN CONTEX
 T\, CRISIS OF FAITH AND THE CHRISTIAN NARRATIVE. | We will map the territo
 ry\, exploring and critiquing a certain form of modern thinking that argue
 s for disbelief... (see below for more info
DESCRIPTION:REFLECTING THEOLOGICALLY ON WHO WE ARE\, THE MODERN CONTEXT\, C
 RISIS OF FAITH AND THE CHRISTIAN NARRATIVE. | We will map the territory\, 
 exploring and critiquing a certain form of modern thinking that argues for
  disbelief. We will then face the notion of ‘crisis of faith’ and expl
 ore the compelling realism and helpfulness of the Christian narrative in t
 he face of suffering and death.
DTSTART:20221117T183000Z
DTEND:20221117T210000Z
DTSTAMP:20220623T111801Z
ORGANIZER;CN=Donna Worthington:MAILTO:alex@alexwalker.co.uk
END:VEVENT
END:VCALENDAR