BEGIN:VCALENDAR
VERSION:2.0
PRODID:Events Booking
BEGIN:VEVENT
UID:69e5fce7d73bf
SUMMARY:IN SITU STORYTELLING EVENT: THE FOX & THE LAMP (Venue: Preston)  Th
 e lights go down… the image of Fox appears on a lamp and she’s in a ca
 ge made of red fur… What do Fox’s red spiral eyes see? 
DESCRIPTION:IN SITU STORYTELLING EVENT: THE FOX &amp\; THE LAMP
 6.30-9pm
   
 Venue:  Preston 
 The lights go down… the image of Fox appears
  on a lamp and she’s in a cage made of red fur… What do Fox’s red sp
 iral eyes see?
 She sees a Woman. The Woman watches Fox’s every move\, 
 every breath\, every tremor. Fox’s gaze rests upon her - a Woman trying 
 to become Fox…
 Through storytelling accompanied by beautiful guitar mu
 sic\, creative writing\, theatre techniques and imaginative discussion we 
 will explore the symbolism of the magical creature Fox and dive deep into 
 story…
 All are welcome. No theatre\, writing\, storytelling experience
  necessary. 
DTSTART:20221111T183000Z
DTEND:20221111T210000Z
DTSTAMP:20220731T124831Z
ORGANIZER;CN=Donna Worthington:MAILTO:alex@alexwalker.co.uk
END:VEVENT
END:VCALENDAR