BEGIN:VCALENDAR
VERSION:2.0
PRODID:Events Booking
BEGIN:VEVENT
UID:69e5fce7d73ba
SUMMARY:(ONLINE) FAIRY TALES | Exploring how these human stories can be gui
 des to deeper self-awareness\, freedom and wholeness that God offers us…
  Sleeping Beauty\, The Little Red Hen\, Cinderella. 3 Thursdays – 1st\, 
 8th\, 15th December\, 6.30-9pm.
DESCRIPTION:FAIRY TALES | Exploring how these human stories can be guides t
 o deeper self-awareness\, freedom and wholeness that God offers us…
 Sl
 eeping Beauty
 The Little Red Hen
 Cinderella
 3 Thursdays – 1st\, 8t
 h\, 15th December 6.30-9pm
DTSTART:20221201T183000Z
DTEND:20221215T210000Z
DTSTAMP:20220521T152731Z
ORGANIZER;CN=Donna Worthington:MAILTO:alex@alexwalker.co.uk
END:VEVENT
END:VCALENDAR