BEGIN:VCALENDAR
VERSION:2.0
PRODID:Events Booking
BEGIN:VEVENT
UID:69e5fe2d2e096
SUMMARY:(IN SITU) ADVENT MYSTERY | A Journey with Mary who gives birth to t
 he Word.
DESCRIPTION:IN SITU day retreat at Our Lady of Lourdes and St Gerard Majell
 a RC Church\, Brownedge Rd\, Lostock Hall Preston PR5 5TA. To book\, cont
 act the Parish office: 01772 335387 or email – office@saintgerards.org
 .uk  
 Cost £20.  Places are limited.
 Thursday 8th December 2022 - A
 DVENT MYSTERY | A Journey with Mary who gives birth to the Word.
  
  
DTSTART:20221208T113000Z
DTEND:20221208T150000Z
DTSTAMP:20221024T152154Z
ORGANIZER;CN=Donna Worthington:MAILTO:alex@alexwalker.co.uk
END:VEVENT
END:VCALENDAR