BEGIN:VCALENDAR
VERSION:2.0
PRODID:Events Booking
BEGIN:VEVENT
UID:69e6151c2775f
SUMMARY:(IN SITU) INTRO TO IGNATIAN PRAYER | Using our imagination to open 
 up a space to be attentive to God.
DESCRIPTION:(IN SITU) INTRO TO IGNATIAN PRAYER | Using our imagination to o
 pen up a space to be attentive to God.
 Venue: Our Lady of Lourdes and St
  Gerard Majella RC Church\, Brownedge Rd\, Lostock Hall Preston PR55TA
 T
 o book please contact the Parish office: 01772 335387 or email: office@
 saintgerards.org.uk
 Cost £20. Places are limited.
DTSTART:20230210T113000Z
DTEND:20230210T150000Z
DTSTAMP:20221025T164752Z
ORGANIZER;CN=Donna Worthington:MAILTO:alex@alexwalker.co.uk
END:VEVENT
END:VCALENDAR