BEGIN:VCALENDAR
VERSION:2.0
PRODID:Events Booking
BEGIN:VEVENT
UID:69e5e7931ceed
SUMMARY:(ONLINE) BE STILL & KNOW THAT I AM GOD
DESCRIPTION:
 BE STILL &amp\; KNOW THAT I AM GOD | Sometimes we are invite
 d to move into this quiet prayer and just ‘be’. Holding this peaceful 
 retreat\, will be space to simply rest in God. Alongside this\, respecting
  the Christian call for radical self-awareness\, we will focus on ‘Give 
 careful thought to all your ways’ (Haggai 1:7)\; in the stillness\, we
 ’ll seek to really try and ‘see’ personal\, negative ways that requi
 re transformation. Inspirational art (a sculpture\, a painting and modern 
 images of the stations of the cross) will be a key focus of reflection on 
 the gentle\, patient\, healing Christ who knows our difficult ways and off
 ers us His Way of freedom\, resurrection and light.  Tuesday 5th May 10am
  – 12.30pm
 
DTSTART:20260505T090000Z
DTEND:20260505T113000Z
DTSTAMP:20251030T160855Z
ORGANIZER;CN=Donna Worthington:MAILTO:alex@alexwalker.co.uk
END:VEVENT
END:VCALENDAR